BEGIN:VCALENDAR
VERSION:2.0
PRODID:-//Tukios.com/
BEGIN:VEVENT
UID:59ec5c9e-8993-42f2-a545-5cf008a57ade@obituaries.criswellfh.com
DTSTAMP:20260422T190023Z
DTSTART:20260424T160000Z
DTEND:20260424T170000Z
SUMMARY:Funeral Service
DESCRIPTION:
URL:https://obituaries.criswellfh.com/patricia-wilkins
LOCATION: 815 Arlington St  Ada OK 74820
GEO:34.7812375;-96.6666519
END:VEVENT
END:VCALENDAR