BEGIN:VCALENDAR
VERSION:2.0
PRODID:-//Tukios.com/
BEGIN:VEVENT
UID:02c141dd-84c0-41a8-90c7-3e41577be4ee@obituaries.criswellfh.com
DTSTAMP:20260422T231436Z
DTSTART:20260423T160000Z
DTEND:20260423T170000Z
SUMMARY:Funeral Service
DESCRIPTION:
URL:https://obituaries.criswellfh.com/lt-williams-jr
LOCATION: 815 Arlington St  Ada OK 74820
GEO:34.7812375;-96.6666519
END:VEVENT
END:VCALENDAR