BEGIN:VCALENDAR
VERSION:2.0
PRODID:-//Tukios.com/
BEGIN:VEVENT
UID:88776ecc-63bf-435c-bb23-3d9619bb9232@obituaries.criswellfh.com
DTSTAMP:20260421T222427Z
DTSTART:20260423T190000Z
DTEND:20260423T200000Z
SUMMARY:Funeral Service
DESCRIPTION:
URL:https://obituaries.criswellfh.com/lois-hall
LOCATION:Criswell Funeral Home Chapel 815 Arlington Street  Ada OK 74820
GEO:34.7813124;-96.6667324
END:VEVENT
END:VCALENDAR