BEGIN:VCALENDAR
VERSION:2.0
PRODID:-//Tukios.com/
BEGIN:VEVENT
UID:c8c304d9-3782-42d0-b49f-77d731e2a545@obituaries.criswellfh.com
DTSTAMP:20260424T170121Z
DTSTART:20260428T190000Z
DTEND:20260428T200000Z
SUMMARY:Memorial Gathering
DESCRIPTION:
URL:https://obituaries.criswellfh.com/laura-belt
LOCATION: 815 Arlington St  Ada OK 74820
GEO:34.7812375;-96.6666519
END:VEVENT
END:VCALENDAR