BEGIN:VCALENDAR
VERSION:2.0
PRODID:-//Tukios.com/
BEGIN:VEVENT
UID:a44f41ce-5cec-4cbe-bce4-765a22a8dbe2@obituaries.criswellfh.com
DTSTAMP:20260421T222444Z
DTSTART:20260426T210000Z
DTEND:20260426T230000Z
SUMMARY:Viewing
DESCRIPTION:
URL:https://obituaries.criswellfh.com/joshua-wolfe
LOCATION:Criswell Funeral Home 815 Arlington St  Ada OK 74820
GEO:34.7812375;-96.6666519
END:VEVENT
END:VCALENDAR