BEGIN:VCALENDAR
VERSION:2.0
PRODID:-//Tukios.com/
BEGIN:VEVENT
UID:34302f94-d635-4c9f-b591-8a3cda1de2ad@obituaries.criswellfh.com
DTSTAMP:20260421T222328Z
DTSTART:20260427T160000Z
DTEND:20260427T170000Z
SUMMARY:Funeral Service
DESCRIPTION:
URL:https://obituaries.criswellfh.com/joshua-wolfe
LOCATION: 631 West 33rd Street  Ada OK 74820
GEO:34.7500665;-96.6870467
END:VEVENT
END:VCALENDAR