BEGIN:VCALENDAR
VERSION:2.0
PRODID:-//Tukios.com/
BEGIN:VEVENT
UID:1ca47e95-0d68-4487-b29b-4bf556031208@obituaries.criswellfh.com
DTSTAMP:20260421T175639Z
DTSTART:20260423T220000Z
DTEND:20260424T000000Z
SUMMARY:Visitation
DESCRIPTION:
URL:https://obituaries.criswellfh.com/carol-madron
LOCATION: 815 Arlington St  Ada OK 74820
GEO:34.7812375;-96.6666519
END:VEVENT
END:VCALENDAR