BEGIN:VCALENDAR
VERSION:2.0
PRODID:-//Tukios.com/
BEGIN:VEVENT
UID:aee8e75e-509f-4ec3-b803-e78f0fcfa2cf@obituaries.criswellfh.com
DTSTAMP:20260421T175633Z
DTSTART:20260424T190000Z
DTEND:20260424T200000Z
SUMMARY:Funeral Service
DESCRIPTION:
URL:https://obituaries.criswellfh.com/carol-madron
LOCATION: 815 Arlington St  Ada OK 74820
GEO:34.7812375;-96.6666519
END:VEVENT
END:VCALENDAR